BEGIN:VCALENDAR
VERSION:2.0
PRODID:-//Consejo Superior de Colegios de Ingenieros de Minas - ECPv6.15.20//NONSGML v1.0//EN
CALSCALE:GREGORIAN
METHOD:PUBLISH
X-ORIGINAL-URL:https://ingenierosdeminas.org
X-WR-CALDESC:Eventos para Consejo Superior de Colegios de Ingenieros de Minas
REFRESH-INTERVAL;VALUE=DURATION:PT1H
X-Robots-Tag:noindex
X-PUBLISHED-TTL:PT1H
BEGIN:VTIMEZONE
TZID:Europe/Madrid
BEGIN:DAYLIGHT
TZOFFSETFROM:+0100
TZOFFSETTO:+0200
TZNAME:CEST
DTSTART:20230326T010000
END:DAYLIGHT
BEGIN:STANDARD
TZOFFSETFROM:+0200
TZOFFSETTO:+0100
TZNAME:CET
DTSTART:20231029T010000
END:STANDARD
BEGIN:DAYLIGHT
TZOFFSETFROM:+0100
TZOFFSETTO:+0200
TZNAME:CEST
DTSTART:20240331T010000
END:DAYLIGHT
BEGIN:STANDARD
TZOFFSETFROM:+0200
TZOFFSETTO:+0100
TZNAME:CET
DTSTART:20241027T010000
END:STANDARD
BEGIN:DAYLIGHT
TZOFFSETFROM:+0100
TZOFFSETTO:+0200
TZNAME:CEST
DTSTART:20250330T010000
END:DAYLIGHT
BEGIN:STANDARD
TZOFFSETFROM:+0200
TZOFFSETTO:+0100
TZNAME:CET
DTSTART:20251026T010000
END:STANDARD
END:VTIMEZONE
BEGIN:VEVENT
DTSTART;TZID=Europe/Madrid:20240523T080000
DTEND;TZID=Europe/Madrid:20240822T170000
DTSTAMP:20260422T134008
CREATED:20240527T081757Z
LAST-MODIFIED:20240527T081757Z
UID:3375-1716451200-1724346000@ingenierosdeminas.org
SUMMARY:Strategic projects under the CRMA
DESCRIPTION:Desde el 23 de mayo esta abierta la primera convocatoria para proyectos estratégicos en el marco del Critical Raw Materials Act. \nPuedes encontrar toda la información al respecto en el siguiente enlace: Strategic projects under the CRMA – European Commission (europa.eu) https://single-market-economy.ec.europa.eu/sectors/raw-materials/areas-specific-interest/critical-raw-materials/strategic-projects-under-crma_en \n  \nEl sitio web incluye presentaciones PowerPoint y una charla explicativa grabada\, preguntas y respuestas\, el formulario para empresas\, una guía sobre como rellenarlo y un e-mail para consultas particulares: \nGROW-CRMA-STRATEGIC-PROJECTS@ec.europa.eu
URL:https://ingenierosdeminas.org/calendario/strategic-projects-under-the-crma/
END:VEVENT
BEGIN:VEVENT
DTSTART;TZID=Europe/Madrid:20240606T090000
DTEND;TZID=Europe/Madrid:20240606T143000
DTSTAMP:20260422T134008
CREATED:20240530T104356Z
LAST-MODIFIED:20240530T104356Z
UID:3428-1717664400-1717684200@ingenierosdeminas.org
SUMMARY:I Jornada sobre Autoconsumo y CAEs en el Sector Minero.
DESCRIPTION:Se presenta la primera edición de la jornada más importante de autoconsumo y certificados de ahorro energético en el sector minero en Madrid\, que convocará a los principales organismos\, empresas y expertos del sector. Los profesionales que asistan a la jornada conocerán más acerca de la situación actual relativas a las condiciones técnicas y financieras del autoconsumo y la aplicación de los certificados de ahorro energético en el sector minero. \nPrograma\n9:00 : Acreditación \n9:30: Acto Inagural \n10:00: Mesa redonda: Almacenamiento y Autoconsumo. \n12:00: Café \n12:30: Mesa Redonda: Certificado de Ahorro Energético. \n14:30: Clausura \n14:30: Vino Español \nPrecio\nGratuito. Hasta completar aforo. \nMás información\n+34 914 417 921
URL:https://ingenierosdeminas.org/calendario/i-jornada-sobre-autoconsumo-y-caes-en-el-sector-minero/
LOCATION:Fundación Gómez Pardo\, Alenza\, 1\, Madrid\, Madrid\, 28003\, España
END:VEVENT
BEGIN:VEVENT
DTSTART;TZID=Europe/Madrid:20240619T153000
DTEND;TZID=Europe/Madrid:20240619T200000
DTSTAMP:20260422T134008
CREATED:20240610T084551Z
LAST-MODIFIED:20240614T075334Z
UID:3466-1718811000-1718827200@ingenierosdeminas.org
SUMMARY:Jornada Rehabilitación de Espacios Mineros
DESCRIPTION:El Instituto de la Ingeniería de España (IIE)\, a través de su Comité de Ingeniería y Desarrollo Sostenible (CIDES)\, va a desarrollar una serie de jornadas técnicas\, en las que se presentarán actuaciones sobresalientes de primera clase mundial\, en diferentes temáticas de ingeniería\, realizadas en España. \nLa primera reunión\, organizada por la Asociación Nacional de Ingenieros de Minas (ANIM)\, con la colaboración del CIDES versará sobre “Rehabilitación de Espacios Mineros” (REMIN)\, que será impartida con acceso gratuito\, tanto presencial como on-line\, el próximo 19 de junio (miércoles)\, por la tarde en España\, que corresponderá a sesión matinal en los países hermanos de América\, variable según el huso horario en el que se sitúan. \nSe adjunta información al respecto que incluye las conferencias programadas\, conferenciantes y brevísima síntesis de la misma. Se incluye también acceso a ficha de inscripción para recibir “link” de enlace. \n \n20240619 Programa REHABILITACION DE ESPACIOS MINEROS \nInscripciones Online\, se enviará al correo facilitando un enlace a la plataforma Zoom de la Jornada.
URL:https://ingenierosdeminas.org/calendario/jornada-rehabilitacion-de-espacios-mineros/
LOCATION:Escuela Técnica Superior de Ingenieros de Minas y Energía de Madrid\, Ríos Rosas\, 21\, Madrid\, Madrid\, 28003\, España
CATEGORIES:EVENTO-INSTITUCIONAL
END:VEVENT
END:VCALENDAR